BEGIN:VCALENDAR
VERSION:2.0
PRODID:-//İSTA - ECPv5.0.3.1//NONSGML v1.0//EN
CALSCALE:GREGORIAN
METHOD:PUBLISH
X-WR-CALNAME:İSTA
X-ORIGINAL-URL:https://ista.org.tr
X-WR-CALDESC:Events for İSTA
BEGIN:VTIMEZONE
TZID:Europe/Moscow
BEGIN:STANDARD
TZOFFSETFROM:+0300
TZOFFSETTO:+0300
TZNAME:MSK
DTSTART:20200101T000000
END:STANDARD
END:VTIMEZONE
BEGIN:VEVENT
DTSTART;TZID=Europe/Moscow:20200507T133000
DTEND;TZID=Europe/Moscow:20200507T143000
DTSTAMP:20260423T164906
CREATED:20200816T200713Z
LAST-MODIFIED:20200816T200713Z
UID:1112-1588858200-1588861800@ista.org.tr
SUMMARY:Webinar: Tahkim Gündemi  Prof. Dr. Ercüment Erdem ve Av. Arb. Bennar Aydoğdu  Copy
DESCRIPTION:7 Mayıs 2020 tarihinde Hukuk Akademisi ve İstanbul Tahkim Derneği (İSTA) işbirliğinde gerçekleştireceğimiz canlı yayında\, Yönetim Kurulu Başkan Yardımcımız Av. Arb. Bennar Aydoğdu ve Prof. Dr. Ercüment Erdem’i konuk edeceğiz. \nYayında şu sorulara sorulara cevap arayacağız: Koronavirüs döneminde uluslararası tahkim nasıl etkiledi? ICC ve önde gelen uluslararası tahkim merkezleri hangi önlemleri aldı ve teknik imkanları sağladı? Türkiye’de tahkim bu süreçte nasıl ön plana çıktı? \n
URL:https://ista.org.tr/etkinlik/webinar-tahkim-gundemi-prof-dr-ercument-erdem-ve-av-arb-bennar-aydogdu-copy/
LOCATION:Online
CATEGORIES:Webinar
END:VEVENT
END:VCALENDAR